BEGIN:VCALENDAR
VERSION:2.0
PRODID:-//Catskills Timing - ECPv6.15.20//NONSGML v1.0//EN
CALSCALE:GREGORIAN
METHOD:PUBLISH
X-ORIGINAL-URL:https://www.catskillstiming.com
X-WR-CALDESC:Events for Catskills Timing
REFRESH-INTERVAL;VALUE=DURATION:PT1H
X-Robots-Tag:noindex
X-PUBLISHED-TTL:PT1H
BEGIN:VTIMEZONE
TZID:America/New_York
BEGIN:DAYLIGHT
TZOFFSETFROM:-0500
TZOFFSETTO:-0400
TZNAME:EDT
DTSTART:20240310T070000
END:DAYLIGHT
BEGIN:STANDARD
TZOFFSETFROM:-0400
TZOFFSETTO:-0500
TZNAME:EST
DTSTART:20241103T060000
END:STANDARD
BEGIN:DAYLIGHT
TZOFFSETFROM:-0500
TZOFFSETTO:-0400
TZNAME:EDT
DTSTART:20250309T070000
END:DAYLIGHT
BEGIN:STANDARD
TZOFFSETFROM:-0400
TZOFFSETTO:-0500
TZNAME:EST
DTSTART:20251102T060000
END:STANDARD
BEGIN:DAYLIGHT
TZOFFSETFROM:-0500
TZOFFSETTO:-0400
TZNAME:EDT
DTSTART:20260308T070000
END:DAYLIGHT
BEGIN:STANDARD
TZOFFSETFROM:-0400
TZOFFSETTO:-0500
TZNAME:EST
DTSTART:20261101T060000
END:STANDARD
END:VTIMEZONE
BEGIN:VEVENT
DTSTART;TZID=America/New_York:20250504T100000
DTEND;TZID=America/New_York:20250504T120000
DTSTAMP:20260423T063624
CREATED:20250206T002459Z
LAST-MODIFIED:20260219T214449Z
UID:997-1746352800-1746360000@www.catskillstiming.com
SUMMARY:CTA Scholarship 5k Run/Walk
DESCRIPTION:Carmel Teachers Association – Scholarship 5K Run/Walk is run on the Putnam County Rail Trail. Flat and fast! no traffic to worry about\, just you and the road! \n11:30 AM – Post Race Awards at the Paladin Center \n–        Awards for Top Runner Overall Male and Female\, Top Runner CTA Male and Female and age group award medals \n–        T-Shirts available for the first 300 runners to sign up
URL:https://www.catskillstiming.com/event/cta-scholarship-5k-run-walk-2/
LOCATION:Carmel\, NY\, 39 Seminary Hill Road\, Carmel\, NY\, 10512\, United States
CATEGORIES:Past Event
ATTACH;FMTTYPE=image/png:https://www.catskillstiming.com/wp-content/uploads/2024/03/CTA.png
END:VEVENT
BEGIN:VEVENT
DTSTART;TZID=America/New_York:20250518T103000
DTEND;TZID=America/New_York:20250518T133000
DTSTAMP:20260423T063624
CREATED:20250224T010244Z
LAST-MODIFIED:20260202T015735Z
UID:1088-1747564200-1747575000@www.catskillstiming.com
SUMMARY:Run Like the Wind
DESCRIPTION:A run and then craft beer and good wines! The Ellenville Run Like the Wind 5K Race which is one of the oldest races in the Hudson Valley and located 90 miles north of NYC.  As we enter our 40th year\, it is amazing to look back on the generosity of our community and our local businesses over this time span. This race has raised over $175\,000 for the community with the money going back into our community in the way of charitable donations to food banks\, community programs & scholarships. The goal of this event is to promote health through running\, give back to our community and showcase our area to visitors. \nNew certified course. Awards and the best post race party in town by your generous hosts Jamie and Marcus! \n 
URL:https://www.catskillstiming.com/event/run-like-the-wind-4/
LOCATION:Ellenville\, Liberty Square\, Ellenville\, NY\, 12428\, United States
CATEGORIES:Past Event
ATTACH;FMTTYPE=image/png:https://www.catskillstiming.com/wp-content/uploads/2024/03/Run-Like-the-Wind.png
END:VEVENT
END:VCALENDAR