BEGIN:VCALENDAR
VERSION:2.0
PRODID:-//Catskills Timing - ECPv6.15.20//NONSGML v1.0//EN
CALSCALE:GREGORIAN
METHOD:PUBLISH
X-WR-CALNAME:Catskills Timing
X-ORIGINAL-URL:https://www.catskillstiming.com
X-WR-CALDESC:Events for Catskills Timing
REFRESH-INTERVAL;VALUE=DURATION:PT1H
X-Robots-Tag:noindex
X-PUBLISHED-TTL:PT1H
BEGIN:VTIMEZONE
TZID:America/New_York
BEGIN:DAYLIGHT
TZOFFSETFROM:-0500
TZOFFSETTO:-0400
TZNAME:EDT
DTSTART:20240310T070000
END:DAYLIGHT
BEGIN:STANDARD
TZOFFSETFROM:-0400
TZOFFSETTO:-0500
TZNAME:EST
DTSTART:20241103T060000
END:STANDARD
BEGIN:DAYLIGHT
TZOFFSETFROM:-0500
TZOFFSETTO:-0400
TZNAME:EDT
DTSTART:20250309T070000
END:DAYLIGHT
BEGIN:STANDARD
TZOFFSETFROM:-0400
TZOFFSETTO:-0500
TZNAME:EST
DTSTART:20251102T060000
END:STANDARD
BEGIN:DAYLIGHT
TZOFFSETFROM:-0500
TZOFFSETTO:-0400
TZNAME:EDT
DTSTART:20260308T070000
END:DAYLIGHT
BEGIN:STANDARD
TZOFFSETFROM:-0400
TZOFFSETTO:-0500
TZNAME:EST
DTSTART:20261101T060000
END:STANDARD
END:VTIMEZONE
BEGIN:VEVENT
DTSTART;TZID=America/New_York:20250601T100000
DTEND;TZID=America/New_York:20250601T120000
DTSTAMP:20260423T052218
CREATED:20250502T022643Z
LAST-MODIFIED:20260325T215841Z
UID:1148-1748772000-1748779200@www.catskillstiming.com
SUMMARY:Crusaders Crush Cancer
DESCRIPTION:Our goal is to make a meaningful impact in the fight against cancer. Proceeds from this event will be split between two organizations that are especially close to our hearts: Memorial Sloan Kettering Cancer Center and the Crusader Care Fund. \nMemorial Sloan Kettering Cancer Center (MSK) is one of the world’s leading institutions dedicated solely to cancer care\, research\, and education. Recognized as one of the top two cancer hospitals in the nation by U.S. News & World Report for more than 30 years\, MSK continues to push the boundaries of what’s possible in cancer treatment. Their world-class scientists and clinicians work together to translate groundbreaking research into life-saving therapies. MSK’s mission is bold and clear: ending cancer for life. \nThe Crusader Care Fund provides vital support to Archbishop Stepinac High School families facing serious illness. This fund helps ease the financial burdens these families may encounter during incredibly challenging times\, offering relief and solidarity when it is needed most. \nBy participating in the Crusaders Crush Cancer 5K\, you’re not just running—you’re standing with families in our community and contributing to the larger fight to end cancer.
URL:https://www.catskillstiming.com/event/crusaders-crush-cancer/
LOCATION:NY
CATEGORIES:Past Event
END:VEVENT
BEGIN:VEVENT
DTSTART;TZID=America/New_York:20250608T090000
DTEND;TZID=America/New_York:20250608T120000
DTSTAMP:20260423T052218
CREATED:20250225T013310Z
LAST-MODIFIED:20260219T212915Z
UID:1096-1749373200-1749384000@www.catskillstiming.com
SUMMARY:YMCA Ruthie Dino Marshall 5K
DESCRIPTION:Ruthie spent her entire life in the Middletown area and was an active part of the community. She worked with the Middletown School District\, as well as here\, at the YMCA of Middletown. She was truly an integral part of our association. Her classes were well received and her benevolent nature always had her involved in an array of “Y” activities. An avid runner\, Ruthie was symbolic of our mission. Her dedication to building a healthy Spirit\, Mind and Body was exemplified in all she did. Ruthie conveyed this enthusiasm for life\, to all who knew her. Because of this\, it just seemed a proper tribute to rededicate our road race to Ruthie’s memory. \nThis event raises money each year for the children of our community. The funds raised benefit the Middletown School District Ruthie Dino-Marshall Memorial Fund and the YMCA of Middletown summer camp scholarship fund.
URL:https://www.catskillstiming.com/event/ymca-ruthie-dino-marshall-5k/
LOCATION:Middletown YMCA\, 81 Highland Ave\, Middletown\, NY\, 10940\, United States
CATEGORIES:Past Event
END:VEVENT
END:VCALENDAR