BEGIN:VCALENDAR
VERSION:2.0
PRODID:-//Catskills Timing - ECPv6.15.20//NONSGML v1.0//EN
CALSCALE:GREGORIAN
METHOD:PUBLISH
X-WR-CALNAME:Catskills Timing
X-ORIGINAL-URL:https://www.catskillstiming.com
X-WR-CALDESC:Events for Catskills Timing
REFRESH-INTERVAL;VALUE=DURATION:PT1H
X-Robots-Tag:noindex
X-PUBLISHED-TTL:PT1H
BEGIN:VTIMEZONE
TZID:America/New_York
BEGIN:DAYLIGHT
TZOFFSETFROM:-0500
TZOFFSETTO:-0400
TZNAME:EDT
DTSTART:20180311T070000
END:DAYLIGHT
BEGIN:STANDARD
TZOFFSETFROM:-0400
TZOFFSETTO:-0500
TZNAME:EST
DTSTART:20181104T060000
END:STANDARD
BEGIN:DAYLIGHT
TZOFFSETFROM:-0500
TZOFFSETTO:-0400
TZNAME:EDT
DTSTART:20190310T070000
END:DAYLIGHT
BEGIN:STANDARD
TZOFFSETFROM:-0400
TZOFFSETTO:-0500
TZNAME:EST
DTSTART:20191103T060000
END:STANDARD
BEGIN:DAYLIGHT
TZOFFSETFROM:-0500
TZOFFSETTO:-0400
TZNAME:EDT
DTSTART:20200308T070000
END:DAYLIGHT
BEGIN:STANDARD
TZOFFSETFROM:-0400
TZOFFSETTO:-0500
TZNAME:EST
DTSTART:20201101T060000
END:STANDARD
BEGIN:DAYLIGHT
TZOFFSETFROM:-0500
TZOFFSETTO:-0400
TZNAME:EDT
DTSTART:20210314T070000
END:DAYLIGHT
BEGIN:STANDARD
TZOFFSETFROM:-0400
TZOFFSETTO:-0500
TZNAME:EST
DTSTART:20211107T060000
END:STANDARD
BEGIN:DAYLIGHT
TZOFFSETFROM:-0500
TZOFFSETTO:-0400
TZNAME:EDT
DTSTART:20220313T070000
END:DAYLIGHT
BEGIN:STANDARD
TZOFFSETFROM:-0400
TZOFFSETTO:-0500
TZNAME:EST
DTSTART:20221106T060000
END:STANDARD
END:VTIMEZONE
BEGIN:VEVENT
DTSTART;VALUE=DATE:20211106
DTEND;VALUE=DATE:20211107
DTSTAMP:20260422T000038
CREATED:20240130T005821Z
LAST-MODIFIED:20240130T005821Z
UID:254-1636156800-1636243199@www.catskillstiming.com
SUMMARY:Jog for Jett 5K
DESCRIPTION:https://runsignup.com/Race/Results/120019#resultSetId-287176;perpage:100
URL:https://www.catskillstiming.com/event/jog-for-jett-5k/
CATEGORIES:Past Event,Race
END:VEVENT
BEGIN:VEVENT
DTSTART;VALUE=DATE:20211023
DTEND;VALUE=DATE:20211024
DTSTAMP:20260422T000038
CREATED:20240130T005821Z
LAST-MODIFIED:20240130T005821Z
UID:253-1634947200-1635033599@www.catskillstiming.com
SUMMARY:Meadows and Trails 5K
DESCRIPTION:https://runsignup.com/race/results/?raceId=120832#resultSetId-284655;perpage:100
URL:https://www.catskillstiming.com/event/meadows-and-trails-5k-2/
CATEGORIES:Past Event,Race
END:VEVENT
BEGIN:VEVENT
DTSTART;VALUE=DATE:20211009
DTEND;VALUE=DATE:20211010
DTSTAMP:20260422T000038
CREATED:20240130T005820Z
LAST-MODIFIED:20240130T005820Z
UID:252-1633737600-1633823999@www.catskillstiming.com
SUMMARY:Cider Run
DESCRIPTION:https://runsignup.com/race/results/?raceId=120107&remMeAttempt=#resultSetId-280554;perpage:100
URL:https://www.catskillstiming.com/event/cider-run/
CATEGORIES:Past Event,Race
END:VEVENT
BEGIN:VEVENT
DTSTART;VALUE=DATE:20211003
DTEND;VALUE=DATE:20211004
DTSTAMP:20260422T000038
CREATED:20240130T005806Z
LAST-MODIFIED:20240130T005806Z
UID:251-1633219200-1633305599@www.catskillstiming.com
SUMMARY:Police Chase 5K and 10K
DESCRIPTION:https://runsignup.com/race/results/?raceId=119751&remMeAttempt=#resultSetId-279246;perpage:100
URL:https://www.catskillstiming.com/event/police-chase-5k-and-10k/
CATEGORIES:Past Event,Race
END:VEVENT
BEGIN:VEVENT
DTSTART;VALUE=DATE:20211002
DTEND;VALUE=DATE:20211003
DTSTAMP:20260422T000038
CREATED:20240130T005806Z
LAST-MODIFIED:20240130T005806Z
UID:250-1633132800-1633219199@www.catskillstiming.com
SUMMARY:Colors4Cure
DESCRIPTION:
URL:https://www.catskillstiming.com/event/colors4cure/
CATEGORIES:Past Event,Race
END:VEVENT
BEGIN:VEVENT
DTSTART;VALUE=DATE:20210926
DTEND;VALUE=DATE:20210927
DTSTAMP:20260422T000038
CREATED:20240130T005806Z
LAST-MODIFIED:20240130T005806Z
UID:249-1632614400-1632700799@www.catskillstiming.com
SUMMARY:Roosa Gap Roller Coaster
DESCRIPTION:https://runsignup.com/Race/Results/76897#resultSetId-277146;perpage:10
URL:https://www.catskillstiming.com/event/roosa-gap-roller-coaster/
CATEGORIES:Past Event,Race
END:VEVENT
BEGIN:VEVENT
DTSTART;VALUE=DATE:20210926
DTEND;VALUE=DATE:20210927
DTSTAMP:20260422T000038
CREATED:20240130T005806Z
LAST-MODIFIED:20240130T005806Z
UID:248-1632614400-1632700799@www.catskillstiming.com
SUMMARY:BDMS Cupcake 5K
DESCRIPTION:https://runsignup.com/Race/Results/61265#resultSetId-277129;perpage:100
URL:https://www.catskillstiming.com/event/bdms-cupcake-5k-3/
CATEGORIES:Past Event,Race
END:VEVENT
BEGIN:VEVENT
DTSTART;VALUE=DATE:20210925
DTEND;VALUE=DATE:20210926
DTSTAMP:20260422T000038
CREATED:20240130T005805Z
LAST-MODIFIED:20240130T005805Z
UID:247-1632528000-1632614399@www.catskillstiming.com
SUMMARY:Run for Recovery 5K
DESCRIPTION:
URL:https://www.catskillstiming.com/event/run-for-recovery-5k/
CATEGORIES:Past Event,Race
END:VEVENT
BEGIN:VEVENT
DTSTART;VALUE=DATE:20210925
DTEND;VALUE=DATE:20210926
DTSTAMP:20260422T000038
CREATED:20240130T005751Z
LAST-MODIFIED:20240130T005751Z
UID:246-1632528000-1632614399@www.catskillstiming.com
SUMMARY:One Small Step Closer 5K
DESCRIPTION:
URL:https://www.catskillstiming.com/event/one-small-step-closer-5k/
CATEGORIES:Past Event,Race
END:VEVENT
BEGIN:VEVENT
DTSTART;VALUE=DATE:20210919
DTEND;VALUE=DATE:20210920
DTSTAMP:20260422T000038
CREATED:20240130T005751Z
LAST-MODIFIED:20240130T005751Z
UID:245-1632009600-1632095999@www.catskillstiming.com
SUMMARY:Cheryl Run/Walk 5K
DESCRIPTION:
URL:https://www.catskillstiming.com/event/cheryl-run-walk-5k/
CATEGORIES:Past Event,Race
END:VEVENT
BEGIN:VEVENT
DTSTART;VALUE=DATE:20210818
DTEND;VALUE=DATE:20210819
DTSTAMP:20260422T000038
CREATED:20240130T005751Z
LAST-MODIFIED:20240130T005751Z
UID:244-1629244800-1629331199@www.catskillstiming.com
SUMMARY:Al Goldstein Speed Series
DESCRIPTION:https://runsignup.com/Race/Results/75566#resultSetId-268512;perpage:10
URL:https://www.catskillstiming.com/event/al-goldstein-speed-series-8/
CATEGORIES:Past Event,Race
END:VEVENT
BEGIN:VEVENT
DTSTART;VALUE=DATE:20210804
DTEND;VALUE=DATE:20210805
DTSTAMP:20260422T000038
CREATED:20240130T005751Z
LAST-MODIFIED:20240130T005751Z
UID:243-1628035200-1628121599@www.catskillstiming.com
SUMMARY:Al Goldstein Speed Series
DESCRIPTION:https://runsignup.com/Race/Results/75566#resultSetId-266172;perpage:10
URL:https://www.catskillstiming.com/event/al-goldstein-speed-series-7/
CATEGORIES:Past Event,Race
END:VEVENT
BEGIN:VEVENT
DTSTART;VALUE=DATE:20210725
DTEND;VALUE=DATE:20210726
DTSTAMP:20260422T000038
CREATED:20240130T005750Z
LAST-MODIFIED:20240130T005750Z
UID:242-1627171200-1627257599@www.catskillstiming.com
SUMMARY:Advocating Hope's 5K Run/Walk
DESCRIPTION:https://runsignup.com/Race/Results/112750#resultSetId-264020;perpage:100
URL:https://www.catskillstiming.com/event/advocating-hopes-5k-run-walk/
CATEGORIES:Past Event,Race
END:VEVENT
BEGIN:VEVENT
DTSTART;VALUE=DATE:20210721
DTEND;VALUE=DATE:20210722
DTSTAMP:20260422T000038
CREATED:20240130T005736Z
LAST-MODIFIED:20240130T005736Z
UID:241-1626825600-1626911999@www.catskillstiming.com
SUMMARY:Al Goldstein Speed Series
DESCRIPTION:https://runsignup.com/Race/Results/75566#resultSetId-263990;perpage:10
URL:https://www.catskillstiming.com/event/al-goldstein-speed-series-6/
CATEGORIES:Past Event,Race
END:VEVENT
BEGIN:VEVENT
DTSTART;VALUE=DATE:20210718
DTEND;VALUE=DATE:20210719
DTSTAMP:20260422T000038
CREATED:20240130T005736Z
LAST-MODIFIED:20240130T005736Z
UID:240-1626566400-1626652799@www.catskillstiming.com
SUMMARY:Turtle Trot 5K and 10K
DESCRIPTION:https://runsignup.com/Race/Results/73096#resultSetId-263382;perpage:100
URL:https://www.catskillstiming.com/event/turtle-trot-5k-and-10k-2/
CATEGORIES:Past Event,Race
END:VEVENT
BEGIN:VEVENT
DTSTART;VALUE=DATE:20210707
DTEND;VALUE=DATE:20210708
DTSTAMP:20260422T000038
CREATED:20240130T005736Z
LAST-MODIFIED:20240130T005736Z
UID:239-1625616000-1625702399@www.catskillstiming.com
SUMMARY:Al Goldstein Speed Series
DESCRIPTION:https://runsignup.com/Race/Results/75566#resultSetId-261948;perpage:10
URL:https://www.catskillstiming.com/event/al-goldstein-speed-series-5/
CATEGORIES:Past Event,Race
END:VEVENT
BEGIN:VEVENT
DTSTART;VALUE=DATE:20210704
DTEND;VALUE=DATE:20210705
DTSTAMP:20260422T000038
CREATED:20240130T005736Z
LAST-MODIFIED:20240130T005736Z
UID:238-1625356800-1625443199@www.catskillstiming.com
SUMMARY:Highland Firecracker 5K
DESCRIPTION:https://runsignup.com/Race/NY/HighlandFalls/HighlandFirecracker
URL:https://www.catskillstiming.com/event/highland-firecracker-5k/
CATEGORIES:Past Event,Race
END:VEVENT
BEGIN:VEVENT
DTSTART;VALUE=DATE:20210704
DTEND;VALUE=DATE:20210705
DTSTAMP:20260422T000038
CREATED:20240130T005735Z
LAST-MODIFIED:20240130T005735Z
UID:237-1625356800-1625443199@www.catskillstiming.com
SUMMARY:SMVFD Fighting Fires 5K
DESCRIPTION:https://runsignup.com/race/results/?raceId=114772#resultSetId-261768;perpage:100
URL:https://www.catskillstiming.com/event/smvfd-fighting-fires-5k/
CATEGORIES:Past Event,Race
END:VEVENT
BEGIN:VEVENT
DTSTART;VALUE=DATE:20210623
DTEND;VALUE=DATE:20210624
DTSTAMP:20260422T000038
CREATED:20240130T005721Z
LAST-MODIFIED:20240130T005721Z
UID:236-1624406400-1624492799@www.catskillstiming.com
SUMMARY:Al Goldstein Speed Series
DESCRIPTION:https://runsignup.com/Race/Results/75566#resultSetId-259402;perpage:10
URL:https://www.catskillstiming.com/event/al-goldstein-speed-series-4/
CATEGORIES:Past Event,Race
END:VEVENT
BEGIN:VEVENT
DTSTART;VALUE=DATE:20210613
DTEND;VALUE=DATE:20210614
DTSTAMP:20260422T000038
CREATED:20240130T005721Z
LAST-MODIFIED:20240130T005721Z
UID:235-1623542400-1623628799@www.catskillstiming.com
SUMMARY:Ruthie Dino-Marshall 5K
DESCRIPTION:https://runsignup.com/race/results/?raceId=113751#resultSetId-258083;perpage:100
URL:https://www.catskillstiming.com/event/ruthie-dino-marshall-5k-2/
CATEGORIES:Past Event,Race
END:VEVENT
BEGIN:VEVENT
DTSTART;VALUE=DATE:20210609
DTEND;VALUE=DATE:20210610
DTSTAMP:20260422T000038
CREATED:20240130T005721Z
LAST-MODIFIED:20240130T005721Z
UID:234-1623196800-1623283199@www.catskillstiming.com
SUMMARY:Al Goldstein Speed Series
DESCRIPTION:https://runsignup.com/Race/Results/75566#resultSetId-256282;perpage:10
URL:https://www.catskillstiming.com/event/al-goldstein-speed-series-3/
CATEGORIES:Past Event,Race
END:VEVENT
BEGIN:VEVENT
DTSTART;VALUE=DATE:20210606
DTEND;VALUE=DATE:20210607
DTSTAMP:20260422T000038
CREATED:20240130T005721Z
LAST-MODIFIED:20240130T005721Z
UID:233-1622937600-1623023999@www.catskillstiming.com
SUMMARY:Heartbeat 5K
DESCRIPTION:https://runsignup.com/Race/Results/87553#resultSetId-256272;perpage:100
URL:https://www.catskillstiming.com/event/heartbeat-5k/
CATEGORIES:Past Event,Race
END:VEVENT
BEGIN:VEVENT
DTSTART;VALUE=DATE:20210606
DTEND;VALUE=DATE:20210607
DTSTAMP:20260422T000038
CREATED:20240130T005720Z
LAST-MODIFIED:20240130T005720Z
UID:232-1622937600-1623023999@www.catskillstiming.com
SUMMARY:Leeve Loop Trail Race Run and Walk
DESCRIPTION:https://runsignup.com/Race/PA/EastStroudsburg/LeeveLoopTrailRace
URL:https://www.catskillstiming.com/event/leeve-loop-trail-race-run-and-walk/
CATEGORIES:Past Event,Race
END:VEVENT
BEGIN:VEVENT
DTSTART;VALUE=DATE:20210526
DTEND;VALUE=DATE:20210527
DTSTAMP:20260422T000038
CREATED:20240130T005706Z
LAST-MODIFIED:20240130T005706Z
UID:231-1621987200-1622073599@www.catskillstiming.com
SUMMARY:Al Goldstein Speed Series
DESCRIPTION:https://runsignup.com/Race/Results/75566#resultSetId-255072;perpage:10
URL:https://www.catskillstiming.com/event/al-goldstein-speed-series-2/
CATEGORIES:Past Event,Race
END:VEVENT
BEGIN:VEVENT
DTSTART;VALUE=DATE:20210101
DTEND;VALUE=DATE:20210102
DTSTAMP:20260422T000038
CREATED:20240130T005706Z
LAST-MODIFIED:20240130T005706Z
UID:230-1609459200-1609545599@www.catskillstiming.com
SUMMARY:Frisky Goat Resolution 5k Run/Walk
DESCRIPTION:https://runsignup.com/Race/Results/68579
URL:https://www.catskillstiming.com/event/frisky-goat-resolution-5k-run-walk/
CATEGORIES:Past Event,Race
END:VEVENT
BEGIN:VEVENT
DTSTART;VALUE=DATE:20200126
DTEND;VALUE=DATE:20200127
DTSTAMP:20260422T000038
CREATED:20240130T005706Z
LAST-MODIFIED:20240130T005706Z
UID:228-1579996800-1580083199@www.catskillstiming.com
SUMMARY:Fretchen is 50
DESCRIPTION:https://runsignup.com/Race/Results/82664/#resultSetId-187710;perpage:10
URL:https://www.catskillstiming.com/event/fretchen-is-50/
CATEGORIES:Past Event,Race
END:VEVENT
BEGIN:VEVENT
DTSTART;VALUE=DATE:20200101
DTEND;VALUE=DATE:20200102
DTSTAMP:20260422T000038
CREATED:20240130T005705Z
LAST-MODIFIED:20240130T005705Z
UID:227-1577836800-1577923199@www.catskillstiming.com
SUMMARY:Frisky Goat Resolution 10k Run
DESCRIPTION:https://runsignup.com/Race/Results/68579/
URL:https://www.catskillstiming.com/event/frisky-goat-resolution-10k-run/
CATEGORIES:Past Event,Race
END:VEVENT
BEGIN:VEVENT
DTSTART;VALUE=DATE:20191214
DTEND;VALUE=DATE:20191215
DTSTAMP:20260422T000038
CREATED:20240130T005651Z
LAST-MODIFIED:20240130T005651Z
UID:226-1576281600-1576367999@www.catskillstiming.com
SUMMARY:Tinsel Trot 5K Fun Run/Walk
DESCRIPTION:https://runsignup.com/Race/Results/81545/#resultSetId-184247;perpage:10
URL:https://www.catskillstiming.com/event/tinsel-trot-5k-fun-run-walk/
CATEGORIES:Past Event,Race
END:VEVENT
BEGIN:VEVENT
DTSTART;VALUE=DATE:20191208
DTEND;VALUE=DATE:20191209
DTSTAMP:20260422T000038
CREATED:20240130T005651Z
LAST-MODIFIED:20240130T005651Z
UID:225-1575763200-1575849599@www.catskillstiming.com
SUMMARY:36 Annual Reindeer Ramble 5K
DESCRIPTION:https://runsignup.com/Race/Results/84000/#resultSetId-183814;perpage:10
URL:https://www.catskillstiming.com/event/36-annual-reindeer-ramble-5k/
CATEGORIES:Past Event,Race
END:VEVENT
BEGIN:VEVENT
DTSTART;VALUE=DATE:20191130
DTEND;VALUE=DATE:20191201
DTSTAMP:20260422T000038
CREATED:20240130T005651Z
LAST-MODIFIED:20240130T005651Z
UID:224-1575072000-1575158399@www.catskillstiming.com
SUMMARY:Greenwich Alliance For Education Turkey Trot 5K
DESCRIPTION:
URL:https://www.catskillstiming.com/event/greenwich-alliance-for-education-turkey-trot-5k-2/
CATEGORIES:Past Event,Race
END:VEVENT
END:VCALENDAR