BEGIN:VCALENDAR
VERSION:2.0
PRODID:-//Catskills Timing - ECPv6.15.20//NONSGML v1.0//EN
CALSCALE:GREGORIAN
METHOD:PUBLISH
X-WR-CALNAME:Catskills Timing
X-ORIGINAL-URL:https://www.catskillstiming.com
X-WR-CALDESC:Events for Catskills Timing
REFRESH-INTERVAL;VALUE=DURATION:PT1H
X-Robots-Tag:noindex
X-PUBLISHED-TTL:PT1H
BEGIN:VTIMEZONE
TZID:America/New_York
BEGIN:DAYLIGHT
TZOFFSETFROM:-0500
TZOFFSETTO:-0400
TZNAME:EDT
DTSTART:20180311T070000
END:DAYLIGHT
BEGIN:STANDARD
TZOFFSETFROM:-0400
TZOFFSETTO:-0500
TZNAME:EST
DTSTART:20181104T060000
END:STANDARD
BEGIN:DAYLIGHT
TZOFFSETFROM:-0500
TZOFFSETTO:-0400
TZNAME:EDT
DTSTART:20190310T070000
END:DAYLIGHT
BEGIN:STANDARD
TZOFFSETFROM:-0400
TZOFFSETTO:-0500
TZNAME:EST
DTSTART:20191103T060000
END:STANDARD
BEGIN:DAYLIGHT
TZOFFSETFROM:-0500
TZOFFSETTO:-0400
TZNAME:EDT
DTSTART:20200308T070000
END:DAYLIGHT
BEGIN:STANDARD
TZOFFSETFROM:-0400
TZOFFSETTO:-0500
TZNAME:EST
DTSTART:20201101T060000
END:STANDARD
BEGIN:DAYLIGHT
TZOFFSETFROM:-0500
TZOFFSETTO:-0400
TZNAME:EDT
DTSTART:20210314T070000
END:DAYLIGHT
BEGIN:STANDARD
TZOFFSETFROM:-0400
TZOFFSETTO:-0500
TZNAME:EST
DTSTART:20211107T060000
END:STANDARD
BEGIN:DAYLIGHT
TZOFFSETFROM:-0500
TZOFFSETTO:-0400
TZNAME:EDT
DTSTART:20220313T070000
END:DAYLIGHT
BEGIN:STANDARD
TZOFFSETFROM:-0400
TZOFFSETTO:-0500
TZNAME:EST
DTSTART:20221106T060000
END:STANDARD
END:VTIMEZONE
BEGIN:VEVENT
DTSTART;VALUE=DATE:20210609
DTEND;VALUE=DATE:20210610
DTSTAMP:20260422T022411
CREATED:20240130T005721Z
LAST-MODIFIED:20240130T005721Z
UID:234-1623196800-1623283199@www.catskillstiming.com
SUMMARY:Al Goldstein Speed Series
DESCRIPTION:https://runsignup.com/Race/Results/75566#resultSetId-256282;perpage:10
URL:https://www.catskillstiming.com/event/al-goldstein-speed-series-3/
CATEGORIES:Past Event,Race
END:VEVENT
BEGIN:VEVENT
DTSTART;VALUE=DATE:20210606
DTEND;VALUE=DATE:20210607
DTSTAMP:20260422T022411
CREATED:20240130T005721Z
LAST-MODIFIED:20240130T005721Z
UID:233-1622937600-1623023999@www.catskillstiming.com
SUMMARY:Heartbeat 5K
DESCRIPTION:https://runsignup.com/Race/Results/87553#resultSetId-256272;perpage:100
URL:https://www.catskillstiming.com/event/heartbeat-5k/
CATEGORIES:Past Event,Race
END:VEVENT
BEGIN:VEVENT
DTSTART;VALUE=DATE:20210606
DTEND;VALUE=DATE:20210607
DTSTAMP:20260422T022411
CREATED:20240130T005720Z
LAST-MODIFIED:20240130T005720Z
UID:232-1622937600-1623023999@www.catskillstiming.com
SUMMARY:Leeve Loop Trail Race Run and Walk
DESCRIPTION:https://runsignup.com/Race/PA/EastStroudsburg/LeeveLoopTrailRace
URL:https://www.catskillstiming.com/event/leeve-loop-trail-race-run-and-walk/
CATEGORIES:Past Event,Race
END:VEVENT
BEGIN:VEVENT
DTSTART;VALUE=DATE:20210526
DTEND;VALUE=DATE:20210527
DTSTAMP:20260422T022411
CREATED:20240130T005706Z
LAST-MODIFIED:20240130T005706Z
UID:231-1621987200-1622073599@www.catskillstiming.com
SUMMARY:Al Goldstein Speed Series
DESCRIPTION:https://runsignup.com/Race/Results/75566#resultSetId-255072;perpage:10
URL:https://www.catskillstiming.com/event/al-goldstein-speed-series-2/
CATEGORIES:Past Event,Race
END:VEVENT
BEGIN:VEVENT
DTSTART;VALUE=DATE:20210101
DTEND;VALUE=DATE:20210102
DTSTAMP:20260422T022411
CREATED:20240130T005706Z
LAST-MODIFIED:20240130T005706Z
UID:230-1609459200-1609545599@www.catskillstiming.com
SUMMARY:Frisky Goat Resolution 5k Run/Walk
DESCRIPTION:https://runsignup.com/Race/Results/68579
URL:https://www.catskillstiming.com/event/frisky-goat-resolution-5k-run-walk/
CATEGORIES:Past Event,Race
END:VEVENT
BEGIN:VEVENT
DTSTART;VALUE=DATE:20200126
DTEND;VALUE=DATE:20200127
DTSTAMP:20260422T022411
CREATED:20240130T005706Z
LAST-MODIFIED:20240130T005706Z
UID:228-1579996800-1580083199@www.catskillstiming.com
SUMMARY:Fretchen is 50
DESCRIPTION:https://runsignup.com/Race/Results/82664/#resultSetId-187710;perpage:10
URL:https://www.catskillstiming.com/event/fretchen-is-50/
CATEGORIES:Past Event,Race
END:VEVENT
BEGIN:VEVENT
DTSTART;VALUE=DATE:20200101
DTEND;VALUE=DATE:20200102
DTSTAMP:20260422T022411
CREATED:20240130T005705Z
LAST-MODIFIED:20240130T005705Z
UID:227-1577836800-1577923199@www.catskillstiming.com
SUMMARY:Frisky Goat Resolution 10k Run
DESCRIPTION:https://runsignup.com/Race/Results/68579/
URL:https://www.catskillstiming.com/event/frisky-goat-resolution-10k-run/
CATEGORIES:Past Event,Race
END:VEVENT
BEGIN:VEVENT
DTSTART;VALUE=DATE:20191214
DTEND;VALUE=DATE:20191215
DTSTAMP:20260422T022411
CREATED:20240130T005651Z
LAST-MODIFIED:20240130T005651Z
UID:226-1576281600-1576367999@www.catskillstiming.com
SUMMARY:Tinsel Trot 5K Fun Run/Walk
DESCRIPTION:https://runsignup.com/Race/Results/81545/#resultSetId-184247;perpage:10
URL:https://www.catskillstiming.com/event/tinsel-trot-5k-fun-run-walk/
CATEGORIES:Past Event,Race
END:VEVENT
BEGIN:VEVENT
DTSTART;VALUE=DATE:20191208
DTEND;VALUE=DATE:20191209
DTSTAMP:20260422T022411
CREATED:20240130T005651Z
LAST-MODIFIED:20240130T005651Z
UID:225-1575763200-1575849599@www.catskillstiming.com
SUMMARY:36 Annual Reindeer Ramble 5K
DESCRIPTION:https://runsignup.com/Race/Results/84000/#resultSetId-183814;perpage:10
URL:https://www.catskillstiming.com/event/36-annual-reindeer-ramble-5k/
CATEGORIES:Past Event,Race
END:VEVENT
BEGIN:VEVENT
DTSTART;VALUE=DATE:20191130
DTEND;VALUE=DATE:20191201
DTSTAMP:20260422T022412
CREATED:20240130T005651Z
LAST-MODIFIED:20240130T005651Z
UID:224-1575072000-1575158399@www.catskillstiming.com
SUMMARY:Greenwich Alliance For Education Turkey Trot 5K
DESCRIPTION:
URL:https://www.catskillstiming.com/event/greenwich-alliance-for-education-turkey-trot-5k-2/
CATEGORIES:Past Event,Race
END:VEVENT
BEGIN:VEVENT
DTSTART;VALUE=DATE:20191128
DTEND;VALUE=DATE:20191129
DTSTAMP:20260422T022412
CREATED:20240130T005651Z
LAST-MODIFIED:20240130T005651Z
UID:223-1574899200-1574985599@www.catskillstiming.com
SUMMARY:St. Stephen-St. Edward Thanksgiving Turkey Trot 5K
DESCRIPTION:https://runsignup.com/Race/Results/81004/
URL:https://www.catskillstiming.com/event/st-stephen-st-edward-thanksgiving-turkey-trot-5k/
CATEGORIES:Past Event,Race
END:VEVENT
BEGIN:VEVENT
DTSTART;VALUE=DATE:20191128
DTEND;VALUE=DATE:20191129
DTSTAMP:20260422T022412
CREATED:20240130T005650Z
LAST-MODIFIED:20240130T005650Z
UID:222-1574899200-1574985599@www.catskillstiming.com
SUMMARY:2019 Prospect Park Turkey Trot
DESCRIPTION:https://runsignup.com/Race/Results/79127/
URL:https://www.catskillstiming.com/event/2019-prospect-park-turkey-trot/
CATEGORIES:Past Event,Race
END:VEVENT
BEGIN:VEVENT
DTSTART;VALUE=DATE:20191026
DTEND;VALUE=DATE:20191027
DTSTAMP:20260422T022412
CREATED:20240130T005636Z
LAST-MODIFIED:20240130T005636Z
UID:221-1572048000-1572134399@www.catskillstiming.com
SUMMARY:Monster Dash 5K Run/Walk
DESCRIPTION:https://runsignup.com/Race/Results/63783/#resultSetId-177654;perpage:10
URL:https://www.catskillstiming.com/event/monster-dash-5k-run-walk-2/
CATEGORIES:Past Event,Race
END:VEVENT
BEGIN:VEVENT
DTSTART;VALUE=DATE:20191019
DTEND;VALUE=DATE:20191020
DTSTAMP:20260422T022413
CREATED:20240130T005636Z
LAST-MODIFIED:20240130T005636Z
UID:220-1571443200-1571529599@www.catskillstiming.com
SUMMARY:Livingston Manor Half Marathon and 5K
DESCRIPTION:https://runsignup.com/Race/Results/60616/#resultSetId-176767;perpage:10
URL:https://www.catskillstiming.com/event/livingston-manor-half-marathon-and-5k-2/
CATEGORIES:Past Event,Race
END:VEVENT
BEGIN:VEVENT
DTSTART;VALUE=DATE:20191013
DTEND;VALUE=DATE:20191014
DTSTAMP:20260422T022413
CREATED:20240130T005636Z
LAST-MODIFIED:20240130T005636Z
UID:219-1570924800-1571011199@www.catskillstiming.com
SUMMARY:Live.Love.Serve 5K
DESCRIPTION:
URL:https://www.catskillstiming.com/event/live-love-serve-5k-2/
CATEGORIES:Past Event,Race
END:VEVENT
BEGIN:VEVENT
DTSTART;VALUE=DATE:20191012
DTEND;VALUE=DATE:20191013
DTSTAMP:20260422T022413
CREATED:20240130T005636Z
LAST-MODIFIED:20240130T005636Z
UID:218-1570838400-1570924799@www.catskillstiming.com
SUMMARY:Shohola - Barryville Bridge 5K Run/Walk
DESCRIPTION:
URL:https://www.catskillstiming.com/event/shohola-barryville-bridge-5k-run-walk/
CATEGORIES:Past Event,Race
END:VEVENT
BEGIN:VEVENT
DTSTART;VALUE=DATE:20191005
DTEND;VALUE=DATE:20191006
DTSTAMP:20260422T022413
CREATED:20240130T005635Z
LAST-MODIFIED:20240130T005635Z
UID:217-1570233600-1570319999@www.catskillstiming.com
SUMMARY:Vintage Runs Half Marathon and 5K
DESCRIPTION:https://runsignup.com/Race/Results/63445/#resultSetId-173846;perpage:10
URL:https://www.catskillstiming.com/event/vintage-runs-half-marathon-and-5k-2/
CATEGORIES:Past Event,Race
END:VEVENT
BEGIN:VEVENT
DTSTART;VALUE=DATE:20190929
DTEND;VALUE=DATE:20190930
DTSTAMP:20260422T022414
CREATED:20240130T005621Z
LAST-MODIFIED:20240130T005621Z
UID:216-1569715200-1569801599@www.catskillstiming.com
SUMMARY:Roosa Gap Roller Coaster Runs
DESCRIPTION:https://runsignup.com/Race/Results/76897/
URL:https://www.catskillstiming.com/event/roosa-gap-roller-coaster-runs-2/
CATEGORIES:Past Event,Race
END:VEVENT
BEGIN:VEVENT
DTSTART;VALUE=DATE:20190928
DTEND;VALUE=DATE:20190929
DTSTAMP:20260422T022414
CREATED:20240130T005621Z
LAST-MODIFIED:20240130T005621Z
UID:214-1569628800-1569715199@www.catskillstiming.com
SUMMARY:Endorphin 5K Run or Walk
DESCRIPTION:
URL:https://www.catskillstiming.com/event/endorphin-5k-run-or-walk/
CATEGORIES:Past Event,Race
END:VEVENT
BEGIN:VEVENT
DTSTART;VALUE=DATE:20190928
DTEND;VALUE=DATE:20190929
DTSTAMP:20260422T022414
CREATED:20240130T005621Z
LAST-MODIFIED:20240130T005621Z
UID:215-1569628800-1569715199@www.catskillstiming.com
SUMMARY:Harmony Christian School 5K
DESCRIPTION:https://runsignup.com/Race/Results/77482/#resultSetId-172456;perpage:10
URL:https://www.catskillstiming.com/event/harmony-christian-school-5k/
CATEGORIES:Past Event,Race
END:VEVENT
BEGIN:VEVENT
DTSTART;VALUE=DATE:20190915
DTEND;VALUE=DATE:20190916
DTSTAMP:20260422T022415
CREATED:20240130T005621Z
LAST-MODIFIED:20240130T005621Z
UID:213-1568505600-1568591999@www.catskillstiming.com
SUMMARY:BDMS Cupcake 5k
DESCRIPTION:https://runsignup.com/bdmscupcake5k/Results
URL:https://www.catskillstiming.com/event/bdms-cupcake-5k-2/
CATEGORIES:Past Event,Race
END:VEVENT
BEGIN:VEVENT
DTSTART;VALUE=DATE:20190915
DTEND;VALUE=DATE:20190916
DTSTAMP:20260422T022415
CREATED:20240130T005620Z
LAST-MODIFIED:20240130T005620Z
UID:212-1568505600-1568591999@www.catskillstiming.com
SUMMARY:5K4Paws
DESCRIPTION:
URL:https://www.catskillstiming.com/event/5k4paws/
CATEGORIES:Past Event,Race
END:VEVENT
BEGIN:VEVENT
DTSTART;VALUE=DATE:20190907
DTEND;VALUE=DATE:20190908
DTSTAMP:20260422T022415
CREATED:20240130T005606Z
LAST-MODIFIED:20240130T005606Z
UID:211-1567814400-1567900799@www.catskillstiming.com
SUMMARY:General Montgomery Day 8K Race/Walk
DESCRIPTION:
URL:https://www.catskillstiming.com/event/general-montgomery-day-8k-race-walk/
CATEGORIES:Past Event,Race
END:VEVENT
BEGIN:VEVENT
DTSTART;VALUE=DATE:20190814
DTEND;VALUE=DATE:20190815
DTSTAMP:20260422T022415
CREATED:20240130T005606Z
LAST-MODIFIED:20240130T005606Z
UID:210-1565740800-1565827199@www.catskillstiming.com
SUMMARY:Al Goldstein Summer Speed Series
DESCRIPTION:https://runsignup.com/Race/Results/75566/#resultSetId-166529;perpage:10
URL:https://www.catskillstiming.com/event/al-goldstein-summer-speed-series-6/
CATEGORIES:Past Event,Race
END:VEVENT
BEGIN:VEVENT
DTSTART;VALUE=DATE:20190811
DTEND;VALUE=DATE:20190812
DTSTAMP:20260422T022416
CREATED:20240130T005606Z
LAST-MODIFIED:20240130T005606Z
UID:209-1565481600-1565567999@www.catskillstiming.com
SUMMARY:Florida Fun Fest *For SecondWindTiming
DESCRIPTION:https://runsignup.com/Race/Results/79529/#resultSetId-166479;perpage:10
URL:https://www.catskillstiming.com/event/florida-fun-fest-for-secondwindtiming/
CATEGORIES:Past Event,Race
END:VEVENT
BEGIN:VEVENT
DTSTART;VALUE=DATE:20190810
DTEND;VALUE=DATE:20190811
DTSTAMP:20260422T022416
CREATED:20240130T005606Z
LAST-MODIFIED:20240130T005606Z
UID:208-1565395200-1565481599@www.catskillstiming.com
SUMMARY:Bald Eagle Half Marathon and 10K
DESCRIPTION:https://runsignup.com/Race/Results/64142/#resultSetId-166109;perpage:10
URL:https://www.catskillstiming.com/event/bald-eagle-half-marathon-and-10k-4/
CATEGORIES:Past Event,Race
END:VEVENT
BEGIN:VEVENT
DTSTART;VALUE=DATE:20190803
DTEND;VALUE=DATE:20190804
DTSTAMP:20260422T022417
CREATED:20240130T005605Z
LAST-MODIFIED:20240130T005605Z
UID:207-1564790400-1564876799@www.catskillstiming.com
SUMMARY:Jeffersonville Harvest 5K
DESCRIPTION:https://runsignup.com/Race/Results/63832/?remMeAttempt=#resultSetId-165397;perpage:10
URL:https://www.catskillstiming.com/event/jeffersonville-harvest-5k-2/
CATEGORIES:Past Event,Race
END:VEVENT
BEGIN:VEVENT
DTSTART;VALUE=DATE:20190803
DTEND;VALUE=DATE:20190804
DTSTAMP:20260422T022417
CREATED:20240130T005551Z
LAST-MODIFIED:20240130T005551Z
UID:206-1564790400-1564876799@www.catskillstiming.com
SUMMARY:Twin Ponds Farm 3.4 Mile Race
DESCRIPTION:https://runsignup.com/Race/Results/76336/#resultSetId-165071;perpage:10
URL:https://www.catskillstiming.com/event/twin-ponds-farm-3-4-mile-race/
CATEGORIES:Past Event,Race
END:VEVENT
BEGIN:VEVENT
DTSTART;VALUE=DATE:20190731
DTEND;VALUE=DATE:20190801
DTSTAMP:20260422T022418
CREATED:20240130T005551Z
LAST-MODIFIED:20240130T005551Z
UID:205-1564531200-1564617599@www.catskillstiming.com
SUMMARY:Al Goldstein Summer Speed Series
DESCRIPTION:https://runsignup.com/Race/Results/75566/#resultSetId-165094;perpage:10
URL:https://www.catskillstiming.com/event/al-goldstein-summer-speed-series-2/
CATEGORIES:Past Event,Race
END:VEVENT
BEGIN:VEVENT
DTSTART;VALUE=DATE:20190720
DTEND;VALUE=DATE:20190721
DTSTAMP:20260422T022418
CREATED:20240130T005551Z
LAST-MODIFIED:20240130T005551Z
UID:203-1563580800-1563667199@www.catskillstiming.com
SUMMARY:Run for the Children 5K
DESCRIPTION:
URL:https://www.catskillstiming.com/event/run-for-the-children-5k/
CATEGORIES:Past Event,Race
END:VEVENT
END:VCALENDAR