BEGIN:VCALENDAR
VERSION:2.0
PRODID:-//Catskills Timing - ECPv6.15.20//NONSGML v1.0//EN
CALSCALE:GREGORIAN
METHOD:PUBLISH
X-WR-CALNAME:Catskills Timing
X-ORIGINAL-URL:https://www.catskillstiming.com
X-WR-CALDESC:Events for Catskills Timing
REFRESH-INTERVAL;VALUE=DURATION:PT1H
X-Robots-Tag:noindex
X-PUBLISHED-TTL:PT1H
BEGIN:VTIMEZONE
TZID:America/New_York
BEGIN:DAYLIGHT
TZOFFSETFROM:-0500
TZOFFSETTO:-0400
TZNAME:EDT
DTSTART:20170312T070000
END:DAYLIGHT
BEGIN:STANDARD
TZOFFSETFROM:-0400
TZOFFSETTO:-0500
TZNAME:EST
DTSTART:20171105T060000
END:STANDARD
BEGIN:DAYLIGHT
TZOFFSETFROM:-0500
TZOFFSETTO:-0400
TZNAME:EDT
DTSTART:20180311T070000
END:DAYLIGHT
BEGIN:STANDARD
TZOFFSETFROM:-0400
TZOFFSETTO:-0500
TZNAME:EST
DTSTART:20181104T060000
END:STANDARD
BEGIN:DAYLIGHT
TZOFFSETFROM:-0500
TZOFFSETTO:-0400
TZNAME:EDT
DTSTART:20190310T070000
END:DAYLIGHT
BEGIN:STANDARD
TZOFFSETFROM:-0400
TZOFFSETTO:-0500
TZNAME:EST
DTSTART:20191103T060000
END:STANDARD
BEGIN:DAYLIGHT
TZOFFSETFROM:-0500
TZOFFSETTO:-0400
TZNAME:EDT
DTSTART:20200308T070000
END:DAYLIGHT
BEGIN:STANDARD
TZOFFSETFROM:-0400
TZOFFSETTO:-0500
TZNAME:EST
DTSTART:20201101T060000
END:STANDARD
END:VTIMEZONE
BEGIN:VEVENT
DTSTART;VALUE=DATE:20190428
DTEND;VALUE=DATE:20190429
DTSTAMP:20260424T090005
CREATED:20240130T005451Z
LAST-MODIFIED:20240130T005451Z
UID:184-1556409600-1556495999@www.catskillstiming.com
SUMMARY:Healthy Minds Healthy Bodies 5K
DESCRIPTION:
URL:https://www.catskillstiming.com/event/healthy-minds-healthy-bodies-5k-2/
CATEGORIES:Past Event,Race
END:VEVENT
BEGIN:VEVENT
DTSTART;VALUE=DATE:20190427
DTEND;VALUE=DATE:20190428
DTSTAMP:20260424T090005
CREATED:20240130T005451Z
LAST-MODIFIED:20240130T005451Z
UID:183-1556323200-1556409599@www.catskillstiming.com
SUMMARY:Jeffersonville's 5K Sap Run and Walk
DESCRIPTION:
URL:https://www.catskillstiming.com/event/jeffersonvilles-5k-sap-run-and-walk/
CATEGORIES:Past Event,Race
END:VEVENT
BEGIN:VEVENT
DTSTART;VALUE=DATE:20190414
DTEND;VALUE=DATE:20190415
DTSTAMP:20260424T090005
CREATED:20240130T005450Z
LAST-MODIFIED:20240130T005450Z
UID:182-1555200000-1555286399@www.catskillstiming.com
SUMMARY:Home Grown Cider 5K and 10K
DESCRIPTION:
URL:https://www.catskillstiming.com/event/home-grown-cider-5k-and-10k/
CATEGORIES:Past Event,Race
END:VEVENT
BEGIN:VEVENT
DTSTART;VALUE=DATE:20190413
DTEND;VALUE=DATE:20190414
DTSTAMP:20260424T090005
CREATED:20240130T005436Z
LAST-MODIFIED:20240130T005436Z
UID:181-1555113600-1555199999@www.catskillstiming.com
SUMMARY:Run On The Runway 3.8
DESCRIPTION:
URL:https://www.catskillstiming.com/event/run-on-the-runway-3-8/
CATEGORIES:Past Event,Race
END:VEVENT
BEGIN:VEVENT
DTSTART;VALUE=DATE:20181208
DTEND;VALUE=DATE:20181209
DTSTAMP:20260424T090005
CREATED:20240130T005436Z
LAST-MODIFIED:20240130T005436Z
UID:179-1544227200-1544313599@www.catskillstiming.com
SUMMARY:Santa Sprint 5K
DESCRIPTION:
URL:https://www.catskillstiming.com/event/santa-sprint-5k-2/
CATEGORIES:Past Event,Race
END:VEVENT
BEGIN:VEVENT
DTSTART;VALUE=DATE:20181208
DTEND;VALUE=DATE:20181209
DTSTAMP:20260424T090005
CREATED:20240130T005436Z
LAST-MODIFIED:20240130T005436Z
UID:180-1544227200-1544313599@www.catskillstiming.com
SUMMARY:Tinsel Trot 5K
DESCRIPTION:
URL:https://www.catskillstiming.com/event/tinsel-trot-5k/
LOCATION:Rock Hill\, NY\, 204 Rock Hill Dr.\, Rock Hill\, New York\, 12775
CATEGORIES:Past Event,Race
END:VEVENT
BEGIN:VEVENT
DTSTART;VALUE=DATE:20181202
DTEND;VALUE=DATE:20181203
DTSTAMP:20260424T090005
CREATED:20240130T005436Z
LAST-MODIFIED:20240130T005436Z
UID:178-1543708800-1543795199@www.catskillstiming.com
SUMMARY:Reindeer Ramble 5K
DESCRIPTION:
URL:https://www.catskillstiming.com/event/reindeer-ramble-5k-2/
LOCATION:Kingston\, NY\, Kingston\, New York
CATEGORIES:Past Event,Race
END:VEVENT
BEGIN:VEVENT
DTSTART;VALUE=DATE:20181124
DTEND;VALUE=DATE:20181125
DTSTAMP:20260424T090005
CREATED:20240130T005435Z
LAST-MODIFIED:20240130T005435Z
UID:177-1543017600-1543103999@www.catskillstiming.com
SUMMARY:Greenwich Alliance for Education Turkey Trot 5K
DESCRIPTION:
URL:https://www.catskillstiming.com/event/greenwich-alliance-for-education-turkey-trot-5k/
CATEGORIES:Past Event,Race
END:VEVENT
BEGIN:VEVENT
DTSTART;VALUE=DATE:20181122
DTEND;VALUE=DATE:20181123
DTSTAMP:20260424T090005
CREATED:20240130T005421Z
LAST-MODIFIED:20240130T005421Z
UID:176-1542844800-1542931199@www.catskillstiming.com
SUMMARY:St. Stephen-St. Edward School Thanksgiving 5K
DESCRIPTION:
URL:https://www.catskillstiming.com/event/st-stephen-st-edward-school-thanksgiving-5k/
CATEGORIES:Past Event,Race
END:VEVENT
BEGIN:VEVENT
DTSTART;VALUE=DATE:20181027
DTEND;VALUE=DATE:20181028
DTSTAMP:20260424T090005
CREATED:20240130T005421Z
LAST-MODIFIED:20240130T005421Z
UID:175-1540598400-1540684799@www.catskillstiming.com
SUMMARY:Monster Dash 5K Run/Walk
DESCRIPTION:
URL:https://www.catskillstiming.com/event/monster-dash-5k-run-walk/
CATEGORIES:Past Event,Race
END:VEVENT
BEGIN:VEVENT
DTSTART;VALUE=DATE:20181020
DTEND;VALUE=DATE:20181021
DTSTAMP:20260424T090005
CREATED:20240130T005421Z
LAST-MODIFIED:20240130T005421Z
UID:174-1539993600-1540079999@www.catskillstiming.com
SUMMARY:Meadows and Trails 5K
DESCRIPTION:
URL:https://www.catskillstiming.com/event/meadows-and-trails-5k/
CATEGORIES:Past Event,Race
END:VEVENT
BEGIN:VEVENT
DTSTART;VALUE=DATE:20181013
DTEND;VALUE=DATE:20181014
DTSTAMP:20260424T090005
CREATED:20240130T005420Z
LAST-MODIFIED:20240130T005420Z
UID:172-1539388800-1539475199@www.catskillstiming.com
SUMMARY:Live. Love. Serve 5K
DESCRIPTION:
URL:https://www.catskillstiming.com/event/live-love-serve-5k/
CATEGORIES:Past Event,Race
END:VEVENT
BEGIN:VEVENT
DTSTART;VALUE=DATE:20181013
DTEND;VALUE=DATE:20181014
DTSTAMP:20260424T090005
CREATED:20240130T005420Z
LAST-MODIFIED:20240130T005420Z
UID:173-1539388800-1539475199@www.catskillstiming.com
SUMMARY:Livingston Manor Half Marathon and 5K
DESCRIPTION:
URL:https://www.catskillstiming.com/event/livingston-manor-half-marathon-and-5k/
CATEGORIES:Past Event,Race
END:VEVENT
BEGIN:VEVENT
DTSTART;VALUE=DATE:20181006
DTEND;VALUE=DATE:20181007
DTSTAMP:20260424T090005
CREATED:20240130T005406Z
LAST-MODIFIED:20240130T005406Z
UID:171-1538784000-1538870399@www.catskillstiming.com
SUMMARY:Vintage Runs Half Marathon and 5K
DESCRIPTION:
URL:https://www.catskillstiming.com/event/vintage-runs-half-marathon-and-5k/
CATEGORIES:Past Event,Race
END:VEVENT
BEGIN:VEVENT
DTSTART;VALUE=DATE:20180930
DTEND;VALUE=DATE:20181001
DTSTAMP:20260424T090005
CREATED:20240130T005406Z
LAST-MODIFIED:20240130T005406Z
UID:170-1538265600-1538351999@www.catskillstiming.com
SUMMARY:Roosa Gap 11.5 and 5K
DESCRIPTION:
URL:https://www.catskillstiming.com/event/roosa-gap-11-5-and-5k/
CATEGORIES:Past Event,Race
END:VEVENT
BEGIN:VEVENT
DTSTART;VALUE=DATE:20180929
DTEND;VALUE=DATE:20180930
DTSTAMP:20260424T090005
CREATED:20240130T005406Z
LAST-MODIFIED:20240130T005406Z
UID:169-1538179200-1538265599@www.catskillstiming.com
SUMMARY:Harmony Harvest Festival 5K Run and Walk
DESCRIPTION:
URL:https://www.catskillstiming.com/event/harmony-harvest-festival-5k-run-and-walk/
CATEGORIES:Past Event,Race
END:VEVENT
BEGIN:VEVENT
DTSTART;VALUE=DATE:20180916
DTEND;VALUE=DATE:20180917
DTSTAMP:20260424T090005
CREATED:20240130T005406Z
LAST-MODIFIED:20240130T005406Z
UID:168-1537056000-1537142399@www.catskillstiming.com
SUMMARY:BDMS Cupcake 5K
DESCRIPTION:
URL:https://www.catskillstiming.com/event/bdms-cupcake-5k/
CATEGORIES:Past Event,Race
END:VEVENT
BEGIN:VEVENT
DTSTART;VALUE=DATE:20180916
DTEND;VALUE=DATE:20180917
DTSTAMP:20260424T090005
CREATED:20240130T005405Z
LAST-MODIFIED:20240130T005405Z
UID:167-1537056000-1537142399@www.catskillstiming.com
SUMMARY:5K 4 Paws
DESCRIPTION:
URL:https://www.catskillstiming.com/event/5k-4-paws/
CATEGORIES:Past Event,Race
END:VEVENT
BEGIN:VEVENT
DTSTART;VALUE=DATE:20180909
DTEND;VALUE=DATE:20180910
DTSTAMP:20260424T090005
CREATED:20240130T005351Z
LAST-MODIFIED:20240130T005351Z
UID:166-1536451200-1536537599@www.catskillstiming.com
SUMMARY:Colors 4 a Cure - Cancer Awareness
DESCRIPTION:
URL:https://www.catskillstiming.com/event/colors-4-a-cure-cancer-awareness/
CATEGORIES:Past Event,Race
END:VEVENT
BEGIN:VEVENT
DTSTART;VALUE=DATE:20180908
DTEND;VALUE=DATE:20180909
DTSTAMP:20260424T090005
CREATED:20240130T005351Z
LAST-MODIFIED:20240130T005351Z
UID:164-1536364800-1536451199@www.catskillstiming.com
SUMMARY:Jeffersonville Harvest 5K
DESCRIPTION:
URL:https://www.catskillstiming.com/event/jeffersonville-harvest-5k/
CATEGORIES:Past Event,Race
END:VEVENT
BEGIN:VEVENT
DTSTART;VALUE=DATE:20180908
DTEND;VALUE=DATE:20180909
DTSTAMP:20260424T090005
CREATED:20240130T005351Z
LAST-MODIFIED:20240130T005351Z
UID:165-1536364800-1536451199@www.catskillstiming.com
SUMMARY:Survivor 8K - Montgomery Day
DESCRIPTION:
URL:https://www.catskillstiming.com/event/survivor-8k-montgomery-day/
CATEGORIES:Past Event,Race
END:VEVENT
BEGIN:VEVENT
DTSTART;VALUE=DATE:20180825
DTEND;VALUE=DATE:20180826
DTSTAMP:20260424T090005
CREATED:20240130T005351Z
LAST-MODIFIED:20240130T005351Z
UID:163-1535155200-1535241599@www.catskillstiming.com
SUMMARY:1st Annual Farm Run
DESCRIPTION:
URL:https://www.catskillstiming.com/event/1st-annual-farm-run/
CATEGORIES:Past Event,Race
END:VEVENT
BEGIN:VEVENT
DTSTART;VALUE=DATE:20180818
DTEND;VALUE=DATE:20180819
DTSTAMP:20260424T090005
CREATED:20240130T005350Z
LAST-MODIFIED:20240130T005350Z
UID:162-1534550400-1534636799@www.catskillstiming.com
SUMMARY:Bald Eagle Half Marathon and 10K
DESCRIPTION:
URL:https://www.catskillstiming.com/event/bald-eagle-half-marathon-and-10k-3/
CATEGORIES:Past Event,Race
END:VEVENT
BEGIN:VEVENT
DTSTART;VALUE=DATE:20180818
DTEND;VALUE=DATE:20180819
DTSTAMP:20260424T090005
CREATED:20240130T005336Z
LAST-MODIFIED:20240130T005336Z
UID:161-1534550400-1534636799@www.catskillstiming.com
SUMMARY:Never Say No 5K and Family Fun Run
DESCRIPTION:
URL:https://www.catskillstiming.com/event/never-say-no-5k-and-family-fun-run/
CATEGORIES:Past Event,Race
END:VEVENT
BEGIN:VEVENT
DTSTART;VALUE=DATE:20180811
DTEND;VALUE=DATE:20180812
DTSTAMP:20260424T090005
CREATED:20240130T005336Z
LAST-MODIFIED:20240130T005336Z
UID:160-1533945600-1534031999@www.catskillstiming.com
SUMMARY:Forestburgh 5K Run/Walk
DESCRIPTION:
URL:https://www.catskillstiming.com/event/forestburgh-5k-run-walk-3/
CATEGORIES:Past Event,Race
END:VEVENT
BEGIN:VEVENT
DTSTART;VALUE=DATE:20180728
DTEND;VALUE=DATE:20180729
DTSTAMP:20260424T090005
CREATED:20240130T005336Z
LAST-MODIFIED:20240130T005336Z
UID:159-1532736000-1532822399@www.catskillstiming.com
SUMMARY:Begin Again Transitional Services (BATS)
DESCRIPTION:
URL:https://www.catskillstiming.com/event/begin-again-transitional-services-bats/
CATEGORIES:Past Event,Race
END:VEVENT
BEGIN:VEVENT
DTSTART;VALUE=DATE:20180721
DTEND;VALUE=DATE:20180722
DTSTAMP:20260424T090005
CREATED:20240130T005336Z
LAST-MODIFIED:20240130T005336Z
UID:158-1532131200-1532217599@www.catskillstiming.com
SUMMARY:5K RUN/WALK FOR CHILDREN ROCKLAND COUNTY
DESCRIPTION:
URL:https://www.catskillstiming.com/event/5k-run-walk-for-children-rockland-county/
CATEGORIES:Past Event,Race
END:VEVENT
BEGIN:VEVENT
DTSTART;VALUE=DATE:20180714
DTEND;VALUE=DATE:20180715
DTSTAMP:20260424T090005
CREATED:20240130T005335Z
LAST-MODIFIED:20240130T005335Z
UID:157-1531526400-1531612799@www.catskillstiming.com
SUMMARY:Turtle Trot 10K
DESCRIPTION:
URL:https://www.catskillstiming.com/event/turtle-trot-10k/
CATEGORIES:Past Event,Race
END:VEVENT
BEGIN:VEVENT
DTSTART;VALUE=DATE:20180704
DTEND;VALUE=DATE:20180705
DTSTAMP:20260424T090005
CREATED:20240130T005321Z
LAST-MODIFIED:20240130T005321Z
UID:156-1530662400-1530748799@www.catskillstiming.com
SUMMARY:Highland Falls Firecracker 5K
DESCRIPTION:
URL:https://www.catskillstiming.com/event/highland-falls-firecracker-5k-2/
CATEGORIES:Past Event,Race
END:VEVENT
BEGIN:VEVENT
DTSTART;VALUE=DATE:20180623
DTEND;VALUE=DATE:20180624
DTSTAMP:20260424T090005
CREATED:20240130T005321Z
LAST-MODIFIED:20240130T005321Z
UID:155-1529712000-1529798399@www.catskillstiming.com
SUMMARY:O.S.C.A.R Animal Rescue 5K
DESCRIPTION:
URL:https://www.catskillstiming.com/event/o-s-c-a-r-animal-rescue-5k/
CATEGORIES:Past Event,Race
END:VEVENT
END:VCALENDAR