BEGIN:VCALENDAR
VERSION:2.0
PRODID:-//Catskills Timing - ECPv6.15.20//NONSGML v1.0//EN
CALSCALE:GREGORIAN
METHOD:PUBLISH
X-WR-CALNAME:Catskills Timing
X-ORIGINAL-URL:https://www.catskillstiming.com
X-WR-CALDESC:Events for Catskills Timing
REFRESH-INTERVAL;VALUE=DURATION:PT1H
X-Robots-Tag:noindex
X-PUBLISHED-TTL:PT1H
BEGIN:VTIMEZONE
TZID:America/New_York
BEGIN:DAYLIGHT
TZOFFSETFROM:-0500
TZOFFSETTO:-0400
TZNAME:EDT
DTSTART:20150308T070000
END:DAYLIGHT
BEGIN:STANDARD
TZOFFSETFROM:-0400
TZOFFSETTO:-0500
TZNAME:EST
DTSTART:20151101T060000
END:STANDARD
BEGIN:DAYLIGHT
TZOFFSETFROM:-0500
TZOFFSETTO:-0400
TZNAME:EDT
DTSTART:20160313T070000
END:DAYLIGHT
BEGIN:STANDARD
TZOFFSETFROM:-0400
TZOFFSETTO:-0500
TZNAME:EST
DTSTART:20161106T060000
END:STANDARD
BEGIN:DAYLIGHT
TZOFFSETFROM:-0500
TZOFFSETTO:-0400
TZNAME:EDT
DTSTART:20170312T070000
END:DAYLIGHT
BEGIN:STANDARD
TZOFFSETFROM:-0400
TZOFFSETTO:-0500
TZNAME:EST
DTSTART:20171105T060000
END:STANDARD
BEGIN:DAYLIGHT
TZOFFSETFROM:-0500
TZOFFSETTO:-0400
TZNAME:EDT
DTSTART:20180311T070000
END:DAYLIGHT
BEGIN:STANDARD
TZOFFSETFROM:-0400
TZOFFSETTO:-0500
TZNAME:EST
DTSTART:20181104T060000
END:STANDARD
END:VTIMEZONE
BEGIN:VEVENT
DTSTART;VALUE=DATE:20170819
DTEND;VALUE=DATE:20170820
DTSTAMP:20260424T095306
CREATED:20240130T005220Z
LAST-MODIFIED:20240130T005220Z
UID:133-1503100800-1503187199@www.catskillstiming.com
SUMMARY:The Ryan McElroy "Never Say No" 5k and Family Fun Run
DESCRIPTION:
URL:https://www.catskillstiming.com/event/the-ryan-mcelroy-never-say-no-5k-and-family-fun-run/
CATEGORIES:Past Event,Race
END:VEVENT
BEGIN:VEVENT
DTSTART;VALUE=DATE:20170812
DTEND;VALUE=DATE:20170813
DTSTAMP:20260424T095306
CREATED:20240130T005220Z
LAST-MODIFIED:20240130T005220Z
UID:132-1502496000-1502582399@www.catskillstiming.com
SUMMARY:Forestburgh 5K
DESCRIPTION:
URL:https://www.catskillstiming.com/event/forestburgh-5k/
CATEGORIES:Past Event,Race
END:VEVENT
BEGIN:VEVENT
DTSTART;VALUE=DATE:20170805
DTEND;VALUE=DATE:20170806
DTSTAMP:20260424T095306
CREATED:20240130T005206Z
LAST-MODIFIED:20240130T005206Z
UID:131-1501891200-1501977599@www.catskillstiming.com
SUMMARY:Shop Rite Honor Veterans Run
DESCRIPTION:
URL:https://www.catskillstiming.com/event/shop-rite-honor-veterans-run/
CATEGORIES:Past Event,Race
END:VEVENT
BEGIN:VEVENT
DTSTART;VALUE=DATE:20170805
DTEND;VALUE=DATE:20170806
DTSTAMP:20260424T095306
CREATED:20240130T005206Z
LAST-MODIFIED:20240130T005206Z
UID:130-1501891200-1501977599@www.catskillstiming.com
SUMMARY:Bald Eagle Half Marathon and 10K
DESCRIPTION:
URL:https://www.catskillstiming.com/event/bald-eagle-half-marathon-and-10k-2/
CATEGORIES:Past Event,Race
END:VEVENT
BEGIN:VEVENT
DTSTART;VALUE=DATE:20170722
DTEND;VALUE=DATE:20170723
DTSTAMP:20260424T095306
CREATED:20240130T005206Z
LAST-MODIFIED:20240130T005206Z
UID:129-1500681600-1500767999@www.catskillstiming.com
SUMMARY:For The Children
DESCRIPTION:
URL:https://www.catskillstiming.com/event/for-the-children/
CATEGORIES:Past Event,Race
END:VEVENT
BEGIN:VEVENT
DTSTART;VALUE=DATE:20170708
DTEND;VALUE=DATE:20170709
DTSTAMP:20260424T095306
CREATED:20240130T005205Z
LAST-MODIFIED:20240130T005205Z
UID:128-1499472000-1499558399@www.catskillstiming.com
SUMMARY:Turtle Trot 10K and Relay
DESCRIPTION:
URL:https://www.catskillstiming.com/event/turtle-trot-10k-and-relay/
CATEGORIES:Past Event,Race
END:VEVENT
BEGIN:VEVENT
DTSTART;VALUE=DATE:20170704
DTEND;VALUE=DATE:20170705
DTSTAMP:20260424T095306
CREATED:20240130T005205Z
LAST-MODIFIED:20240130T005205Z
UID:127-1499126400-1499212799@www.catskillstiming.com
SUMMARY:Highland Falls Firecracker 5K
DESCRIPTION:
URL:https://www.catskillstiming.com/event/highland-falls-firecracker-5k/
CATEGORIES:Past Event,Race
END:VEVENT
BEGIN:VEVENT
DTSTART;VALUE=DATE:20170625
DTEND;VALUE=DATE:20170626
DTSTAMP:20260424T095306
CREATED:20240130T005151Z
LAST-MODIFIED:20240130T005151Z
UID:126-1498348800-1498435199@www.catskillstiming.com
SUMMARY:Run For Rogosin 5K
DESCRIPTION:
URL:https://www.catskillstiming.com/event/run-for-rogosin-5k-2/
CATEGORIES:Past Event,Race
END:VEVENT
BEGIN:VEVENT
DTSTART;VALUE=DATE:20170610
DTEND;VALUE=DATE:20170611
DTSTAMP:20260424T095306
CREATED:20240130T005151Z
LAST-MODIFIED:20240130T005151Z
UID:125-1497052800-1497139199@www.catskillstiming.com
SUMMARY:QDR Philippines Day 4 Mile
DESCRIPTION:
URL:https://www.catskillstiming.com/event/qdr-philippines-day-4-mile/
CATEGORIES:Past Event,Race
END:VEVENT
BEGIN:VEVENT
DTSTART;VALUE=DATE:20170603
DTEND;VALUE=DATE:20170604
DTSTAMP:20260424T095306
CREATED:20240130T005151Z
LAST-MODIFIED:20240130T005151Z
UID:124-1496448000-1496534399@www.catskillstiming.com
SUMMARY:Run For Vets 5K and 10K
DESCRIPTION:
URL:https://www.catskillstiming.com/event/run-for-vets-5k-and-10k/
CATEGORIES:Past Event,Race
END:VEVENT
BEGIN:VEVENT
DTSTART;VALUE=DATE:20170521
DTEND;VALUE=DATE:20170522
DTSTAMP:20260424T095306
CREATED:20240130T005151Z
LAST-MODIFIED:20240130T005151Z
UID:123-1495324800-1495411199@www.catskillstiming.com
SUMMARY:Off Broadway Safe Harbor 5K
DESCRIPTION:
URL:https://www.catskillstiming.com/event/off-broadway-safe-harbor-5k/
CATEGORIES:Past Event,Race
END:VEVENT
BEGIN:VEVENT
DTSTART;VALUE=DATE:20170521
DTEND;VALUE=DATE:20170522
DTSTAMP:20260424T095306
CREATED:20240130T005150Z
LAST-MODIFIED:20240130T005150Z
UID:122-1495324800-1495411199@www.catskillstiming.com
SUMMARY:Run Like The Wind
DESCRIPTION:
URL:https://www.catskillstiming.com/event/run-like-the-wind/
CATEGORIES:Past Event,Race
END:VEVENT
BEGIN:VEVENT
DTSTART;VALUE=DATE:20170520
DTEND;VALUE=DATE:20170521
DTSTAMP:20260424T095306
CREATED:20240130T005136Z
LAST-MODIFIED:20240130T005136Z
UID:121-1495238400-1495324799@www.catskillstiming.com
SUMMARY:Taking A Shot At Inspiring Hope
DESCRIPTION:
URL:https://www.catskillstiming.com/event/taking-a-shot-at-inspiring-hope/
CATEGORIES:Past Event,Race
END:VEVENT
BEGIN:VEVENT
DTSTART;VALUE=DATE:20170429
DTEND;VALUE=DATE:20170430
DTSTAMP:20260424T095306
CREATED:20240130T005136Z
LAST-MODIFIED:20240130T005136Z
UID:120-1493424000-1493510399@www.catskillstiming.com
SUMMARY:Jeffersonville 5K Sap Run
DESCRIPTION:
URL:https://www.catskillstiming.com/event/jeffersonville-5k-sap-run-2/
CATEGORIES:Past Event,Race
END:VEVENT
BEGIN:VEVENT
DTSTART;VALUE=DATE:20170401
DTEND;VALUE=DATE:20170402
DTSTAMP:20260424T095306
CREATED:20240130T005136Z
LAST-MODIFIED:20240130T005136Z
UID:119-1491004800-1491091199@www.catskillstiming.com
SUMMARY:4-H 5K Run and Walk
DESCRIPTION:
URL:https://www.catskillstiming.com/event/4-h-5k-run-and-walk/
CATEGORIES:Past Event,Race
END:VEVENT
BEGIN:VEVENT
DTSTART;VALUE=DATE:20170326
DTEND;VALUE=DATE:20170327
DTSTAMP:20260424T095306
CREATED:20240130T005135Z
LAST-MODIFIED:20240130T005135Z
UID:118-1490486400-1490572799@www.catskillstiming.com
SUMMARY:Pilots For LLS On The Runway 5K
DESCRIPTION:
URL:https://www.catskillstiming.com/event/pilots-for-lls-on-the-runway-5k/
CATEGORIES:Past Event,Race
END:VEVENT
BEGIN:VEVENT
DTSTART;VALUE=DATE:20170226
DTEND;VALUE=DATE:20170227
DTSTAMP:20260424T095306
CREATED:20240130T005135Z
LAST-MODIFIED:20240130T005135Z
UID:117-1488067200-1488153599@www.catskillstiming.com
SUMMARY:AromaThyme Vintage Run
DESCRIPTION:
URL:https://www.catskillstiming.com/event/aromathyme-vintage-run/
CATEGORIES:Past Event,Race
END:VEVENT
BEGIN:VEVENT
DTSTART;VALUE=DATE:20161203
DTEND;VALUE=DATE:20161204
DTSTAMP:20260424T095306
CREATED:20240130T005121Z
LAST-MODIFIED:20240130T005121Z
UID:116-1480723200-1480809599@www.catskillstiming.com
SUMMARY:Santa Sprint 5K
DESCRIPTION:
URL:https://www.catskillstiming.com/event/santa-sprint-5k/
CATEGORIES:Past Event,Race
END:VEVENT
BEGIN:VEVENT
DTSTART;VALUE=DATE:20161030
DTEND;VALUE=DATE:20161031
DTSTAMP:20260424T095306
CREATED:20240130T005121Z
LAST-MODIFIED:20240130T005121Z
UID:115-1477785600-1477871999@www.catskillstiming.com
SUMMARY:Rowayton Library Monster Dash
DESCRIPTION:
URL:https://www.catskillstiming.com/event/rowayton-library-monster-dash/
CATEGORIES:Past Event,Race
END:VEVENT
BEGIN:VEVENT
DTSTART;VALUE=DATE:20161015
DTEND;VALUE=DATE:20161016
DTSTAMP:20260424T095306
CREATED:20240130T005121Z
LAST-MODIFIED:20240130T005121Z
UID:114-1476489600-1476575999@www.catskillstiming.com
SUMMARY:Colors 4 Cure 5K
DESCRIPTION:
URL:https://www.catskillstiming.com/event/colors-4-cure-5k/
CATEGORIES:Past Event,Race
END:VEVENT
BEGIN:VEVENT
DTSTART;VALUE=DATE:20161009
DTEND;VALUE=DATE:20161010
DTSTAMP:20260424T095306
CREATED:20240130T005120Z
LAST-MODIFIED:20240130T005120Z
UID:113-1475971200-1476057599@www.catskillstiming.com
SUMMARY:S-miles for Meyloma
DESCRIPTION:
URL:https://www.catskillstiming.com/event/s-miles-for-meyloma/
CATEGORIES:Past Event,Race
END:VEVENT
BEGIN:VEVENT
DTSTART;VALUE=DATE:20161008
DTEND;VALUE=DATE:20161009
DTSTAMP:20260424T095306
CREATED:20240130T005120Z
LAST-MODIFIED:20240130T005120Z
UID:112-1475884800-1475971199@www.catskillstiming.com
SUMMARY:5K Run For Babies - March of Dimes
DESCRIPTION:
URL:https://www.catskillstiming.com/event/5k-run-for-babies-march-of-dimes/
CATEGORIES:Past Event,Race
END:VEVENT
BEGIN:VEVENT
DTSTART;VALUE=DATE:20161001
DTEND;VALUE=DATE:20161002
DTSTAMP:20260424T095306
CREATED:20240130T005106Z
LAST-MODIFIED:20240130T005106Z
UID:111-1475280000-1475366399@www.catskillstiming.com
SUMMARY:Vintage Run Half Marathon and 5K
DESCRIPTION:
URL:https://www.catskillstiming.com/event/vintage-run-half-marathon-and-5k/
CATEGORIES:Past Event,Race
END:VEVENT
BEGIN:VEVENT
DTSTART;VALUE=DATE:20160925
DTEND;VALUE=DATE:20160926
DTSTAMP:20260424T095306
CREATED:20240130T005106Z
LAST-MODIFIED:20240130T005106Z
UID:110-1474761600-1474847999@www.catskillstiming.com
SUMMARY:Run For Rogosin 5K
DESCRIPTION:
URL:https://www.catskillstiming.com/event/run-for-rogosin-5k/
CATEGORIES:Past Event,Race
END:VEVENT
BEGIN:VEVENT
DTSTART;VALUE=DATE:20160924
DTEND;VALUE=DATE:20160925
DTSTAMP:20260424T095306
CREATED:20240130T005106Z
LAST-MODIFIED:20240130T005106Z
UID:109-1474675200-1474761599@www.catskillstiming.com
SUMMARY:Edgemont 5K\, 1 Mile\, 1/2 Mile
DESCRIPTION:
URL:https://www.catskillstiming.com/event/edgemont-5k-1-mile-1-2-mile/
CATEGORIES:Past Event,Race
END:VEVENT
BEGIN:VEVENT
DTSTART;VALUE=DATE:20160827
DTEND;VALUE=DATE:20160828
DTSTAMP:20260424T095306
CREATED:20240130T005105Z
LAST-MODIFIED:20240130T005105Z
UID:108-1472256000-1472342399@www.catskillstiming.com
SUMMARY:ShopRite 5K Honor Run: Running for Those Who Served
DESCRIPTION:
URL:https://www.catskillstiming.com/event/shoprite-5k-honor-run-running-for-those-who-served/
CATEGORIES:Past Event,Race
END:VEVENT
BEGIN:VEVENT
DTSTART;VALUE=DATE:20160820
DTEND;VALUE=DATE:20160821
DTSTAMP:20260424T095306
CREATED:20240130T005105Z
LAST-MODIFIED:20240130T005105Z
UID:107-1471651200-1471737599@www.catskillstiming.com
SUMMARY:Forestburgh 5K Run/Walk
DESCRIPTION:
URL:https://www.catskillstiming.com/event/forestburgh-5k-run-walk-2/
CATEGORIES:Past Event,Race
END:VEVENT
BEGIN:VEVENT
DTSTART;VALUE=DATE:20160813
DTEND;VALUE=DATE:20160814
DTSTAMP:20260424T095306
CREATED:20240130T005051Z
LAST-MODIFIED:20240130T005051Z
UID:106-1471046400-1471132799@www.catskillstiming.com
SUMMARY:Run For The Vets - BATS
DESCRIPTION:
URL:https://www.catskillstiming.com/event/run-for-the-vets-bats/
CATEGORIES:Past Event,Race
END:VEVENT
BEGIN:VEVENT
DTSTART;VALUE=DATE:20160723
DTEND;VALUE=DATE:20160724
DTSTAMP:20260424T095306
CREATED:20240130T005051Z
LAST-MODIFIED:20240130T005051Z
UID:105-1469232000-1469318399@www.catskillstiming.com
SUMMARY:For The Children 5K
DESCRIPTION:
URL:https://www.catskillstiming.com/event/for-the-children-5k/
CATEGORIES:Past Event,Race
END:VEVENT
BEGIN:VEVENT
DTSTART;VALUE=DATE:20160704
DTEND;VALUE=DATE:20160705
DTSTAMP:20260424T095306
CREATED:20240130T005051Z
LAST-MODIFIED:20240130T005051Z
UID:104-1467590400-1467676799@www.catskillstiming.com
SUMMARY:4th of July: Firecracker 5K
DESCRIPTION:
URL:https://www.catskillstiming.com/event/4th-of-july-firecracker-5k/
CATEGORIES:Past Event,Race
END:VEVENT
END:VCALENDAR