BEGIN:VCALENDAR
VERSION:2.0
PRODID:-//Catskills Timing - ECPv6.15.20//NONSGML v1.0//EN
CALSCALE:GREGORIAN
METHOD:PUBLISH
X-WR-CALNAME:Catskills Timing
X-ORIGINAL-URL:https://www.catskillstiming.com
X-WR-CALDESC:Events for Catskills Timing
REFRESH-INTERVAL;VALUE=DURATION:PT1H
X-Robots-Tag:noindex
X-PUBLISHED-TTL:PT1H
BEGIN:VTIMEZONE
TZID:America/New_York
BEGIN:DAYLIGHT
TZOFFSETFROM:-0500
TZOFFSETTO:-0400
TZNAME:EDT
DTSTART:20130310T070000
END:DAYLIGHT
BEGIN:STANDARD
TZOFFSETFROM:-0400
TZOFFSETTO:-0500
TZNAME:EST
DTSTART:20131103T060000
END:STANDARD
BEGIN:DAYLIGHT
TZOFFSETFROM:-0500
TZOFFSETTO:-0400
TZNAME:EDT
DTSTART:20140309T070000
END:DAYLIGHT
BEGIN:STANDARD
TZOFFSETFROM:-0400
TZOFFSETTO:-0500
TZNAME:EST
DTSTART:20141102T060000
END:STANDARD
BEGIN:DAYLIGHT
TZOFFSETFROM:-0500
TZOFFSETTO:-0400
TZNAME:EDT
DTSTART:20150308T070000
END:DAYLIGHT
BEGIN:STANDARD
TZOFFSETFROM:-0400
TZOFFSETTO:-0500
TZNAME:EST
DTSTART:20151101T060000
END:STANDARD
BEGIN:DAYLIGHT
TZOFFSETFROM:-0500
TZOFFSETTO:-0400
TZNAME:EDT
DTSTART:20160313T070000
END:DAYLIGHT
BEGIN:STANDARD
TZOFFSETFROM:-0400
TZOFFSETTO:-0500
TZNAME:EST
DTSTART:20161106T060000
END:STANDARD
BEGIN:DAYLIGHT
TZOFFSETFROM:-0500
TZOFFSETTO:-0400
TZNAME:EDT
DTSTART:20170312T070000
END:DAYLIGHT
BEGIN:STANDARD
TZOFFSETFROM:-0400
TZOFFSETTO:-0500
TZNAME:EST
DTSTART:20171105T060000
END:STANDARD
END:VTIMEZONE
BEGIN:VEVENT
DTSTART;VALUE=DATE:20160522
DTEND;VALUE=DATE:20160523
DTSTAMP:20260424T110455
CREATED:20240130T005050Z
LAST-MODIFIED:20240130T005050Z
UID:103-1463875200-1463961599@www.catskillstiming.com
SUMMARY:Food Pantry 5K
DESCRIPTION:
URL:https://www.catskillstiming.com/event/food-pantry-5k/
CATEGORIES:Past Event,Race
END:VEVENT
BEGIN:VEVENT
DTSTART;VALUE=DATE:20160515
DTEND;VALUE=DATE:20160516
DTSTAMP:20260424T110455
CREATED:20240130T005050Z
LAST-MODIFIED:20240130T005050Z
UID:102-1463270400-1463356799@www.catskillstiming.com
SUMMARY:Safe Harbors Off Broadway 5K Run and Walk
DESCRIPTION:
URL:https://www.catskillstiming.com/event/safe-harbors-off-broadway-5k-run-and-walk/
CATEGORIES:Past Event,Race
END:VEVENT
BEGIN:VEVENT
DTSTART;VALUE=DATE:20160514
DTEND;VALUE=DATE:20160515
DTSTAMP:20260424T110455
CREATED:20240130T005036Z
LAST-MODIFIED:20240130T005036Z
UID:101-1463184000-1463270399@www.catskillstiming.com
SUMMARY:Ladies of Virtue 5K
DESCRIPTION:
URL:https://www.catskillstiming.com/event/ladies-of-virtue-5k/
CATEGORIES:Past Event,Race
END:VEVENT
BEGIN:VEVENT
DTSTART;VALUE=DATE:20160507
DTEND;VALUE=DATE:20160508
DTSTAMP:20260424T110455
CREATED:20240130T005036Z
LAST-MODIFIED:20240130T005036Z
UID:100-1462579200-1462665599@www.catskillstiming.com
SUMMARY:Nuns 5K and Sisters 5K
DESCRIPTION:
URL:https://www.catskillstiming.com/event/nuns-5k-and-sisters-5k/
CATEGORIES:Past Event,Race
END:VEVENT
BEGIN:VEVENT
DTSTART;VALUE=DATE:20160423
DTEND;VALUE=DATE:20160424
DTSTAMP:20260424T110455
CREATED:20240130T005036Z
LAST-MODIFIED:20240130T005036Z
UID:99-1461369600-1461455999@www.catskillstiming.com
SUMMARY:Jeffersonville 5K Sap Run
DESCRIPTION:
URL:https://www.catskillstiming.com/event/jeffersonville-5k-sap-run/
CATEGORIES:Past Event,Race
END:VEVENT
BEGIN:VEVENT
DTSTART;VALUE=DATE:20160409
DTEND;VALUE=DATE:20160410
DTSTAMP:20260424T110455
CREATED:20240130T005035Z
LAST-MODIFIED:20240130T005035Z
UID:98-1460160000-1460246399@www.catskillstiming.com
SUMMARY:Win...Build...Equip 5K
DESCRIPTION:
URL:https://www.catskillstiming.com/event/win-build-equip-5k/
CATEGORIES:Past Event,Race
END:VEVENT
BEGIN:VEVENT
DTSTART;VALUE=DATE:20160228
DTEND;VALUE=DATE:20160229
DTSTAMP:20260424T110455
CREATED:20240130T005035Z
LAST-MODIFIED:20240130T005035Z
UID:97-1456617600-1456703999@www.catskillstiming.com
SUMMARY:AromaThyme Vintage Run\, Ellenville NY
DESCRIPTION:
URL:https://www.catskillstiming.com/event/aromathyme-vintage-run-ellenville-ny/
CATEGORIES:Past Event,Race
END:VEVENT
BEGIN:VEVENT
DTSTART;VALUE=DATE:20150926
DTEND;VALUE=DATE:20150927
DTSTAMP:20260424T110455
CREATED:20240130T005021Z
LAST-MODIFIED:20240130T005021Z
UID:96-1443225600-1443311999@www.catskillstiming.com
SUMMARY:RJR 5K Run/Walk "Go Gold" for Pediatric Awareness
DESCRIPTION:
URL:https://www.catskillstiming.com/event/rjr-5k-run-walk-go-gold-for-pediatric-awareness/
CATEGORIES:Past Event,Race
END:VEVENT
BEGIN:VEVENT
DTSTART;VALUE=DATE:20150905
DTEND;VALUE=DATE:20150906
DTSTAMP:20260424T110455
CREATED:20240130T005021Z
LAST-MODIFIED:20240130T005021Z
UID:95-1441411200-1441497599@www.catskillstiming.com
SUMMARY:Newburgh Draught Day 5 Mile
DESCRIPTION:
URL:https://www.catskillstiming.com/event/newburgh-draught-day-5-mile/
CATEGORIES:Past Event,Race
END:VEVENT
BEGIN:VEVENT
DTSTART;VALUE=DATE:20150822
DTEND;VALUE=DATE:20150823
DTSTAMP:20260424T110455
CREATED:20240130T005021Z
LAST-MODIFIED:20240130T005021Z
UID:94-1440201600-1440287999@www.catskillstiming.com
SUMMARY:Bald Eagle Half Marathon and 10K
DESCRIPTION:
URL:https://www.catskillstiming.com/event/bald-eagle-half-marathon-and-10k/
CATEGORIES:Past Event,Race
END:VEVENT
BEGIN:VEVENT
DTSTART;VALUE=DATE:20150815
DTEND;VALUE=DATE:20150816
DTSTAMP:20260424T110455
CREATED:20240130T005020Z
LAST-MODIFIED:20240130T005020Z
UID:93-1439596800-1439683199@www.catskillstiming.com
SUMMARY:Forestburgh 5K Run/Walk
DESCRIPTION:
URL:https://www.catskillstiming.com/event/forestburgh-5k-run-walk/
CATEGORIES:Past Event,Race
END:VEVENT
BEGIN:VEVENT
DTSTART;VALUE=DATE:20150718
DTEND;VALUE=DATE:20150719
DTSTAMP:20260424T110455
CREATED:20240130T005020Z
LAST-MODIFIED:20240130T005020Z
UID:92-1437177600-1437263999@www.catskillstiming.com
SUMMARY:Marco's Unfinished Symphony
DESCRIPTION:
URL:https://www.catskillstiming.com/event/marcos-unfinished-symphony/
CATEGORIES:Past Event,Race
END:VEVENT
BEGIN:VEVENT
DTSTART;VALUE=DATE:20150606
DTEND;VALUE=DATE:20150607
DTSTAMP:20260424T110455
CREATED:20240130T005006Z
LAST-MODIFIED:20240130T005006Z
UID:91-1433548800-1433635199@www.catskillstiming.com
SUMMARY:Marlboro Fit Day & 5K
DESCRIPTION:
URL:https://www.catskillstiming.com/event/marlboro-fit-day-5k/
CATEGORIES:Past Event,Race
END:VEVENT
BEGIN:VEVENT
DTSTART;VALUE=DATE:20150517
DTEND;VALUE=DATE:20150518
DTSTAMP:20260424T110455
CREATED:20240130T005005Z
LAST-MODIFIED:20240130T005005Z
UID:90-1431820800-1431907199@www.catskillstiming.com
SUMMARY:Food Bank 5K
DESCRIPTION:
URL:https://www.catskillstiming.com/event/food-bank-5k/
CATEGORIES:Past Event,Race
END:VEVENT
BEGIN:VEVENT
DTSTART;VALUE=DATE:20150517
DTEND;VALUE=DATE:20150518
DTSTAMP:20260424T110455
CREATED:20240130T005005Z
LAST-MODIFIED:20240130T005005Z
UID:89-1431820800-1431907199@www.catskillstiming.com
SUMMARY:Hudson Valley 15K
DESCRIPTION:
URL:https://www.catskillstiming.com/event/hudson-valley-15k/
CATEGORIES:Past Event,Race
END:VEVENT
BEGIN:VEVENT
DTSTART;VALUE=DATE:20150222
DTEND;VALUE=DATE:20150223
DTSTAMP:20260424T110455
CREATED:20240130T005005Z
LAST-MODIFIED:20240130T005005Z
UID:87-1424563200-1424649599@www.catskillstiming.com
SUMMARY:Aroma Thyme Vintage Run
DESCRIPTION:
URL:https://www.catskillstiming.com/event/aroma-thyme-vintage-run/
CATEGORIES:Past Event,Race
END:VEVENT
BEGIN:VEVENT
DTSTART;VALUE=DATE:20140829
DTEND;VALUE=DATE:20140830
DTSTAMP:20260424T110455
CREATED:20240130T005004Z
LAST-MODIFIED:20240130T005004Z
UID:85-1409270400-1409356799@www.catskillstiming.com
SUMMARY:Newburgh Draught Day 2014
DESCRIPTION:
URL:https://www.catskillstiming.com/event/newburgh-draught-day-2014/
CATEGORIES:Past Event,Race
END:VEVENT
END:VCALENDAR